BEGIN:VCALENDAR
PRODID:-//eluceo/ical//2.0/EN
VERSION:2.0
CALSCALE:GREGORIAN
BEGIN:VEVENT
UID:974b581e15166deb55d4db8012cafed8
DTSTAMP:20260424T221955Z
SUMMARY:24 ste Smulgordel
DESCRIPTION:
URL:https://jabbeke.rotary2130.org/nl/agenda/show/58319
DTSTART;TZID=Europe/Zurich:20230702T100000
DTEND;TZID=Europe/Zurich:20230702T190000
LOCATION:vlamingveld 40 jabbeke
CATEGORIES:Rotary
END:VEVENT
BEGIN:VTIMEZONE
TZID:Europe/Zurich
BEGIN:DAYLIGHT
DTSTART:20230702T100000
TZNAME:CEST
TZOFFSETTO:+0200
TZOFFSETFROM:+0200
END:DAYLIGHT
END:VTIMEZONE
END:VCALENDAR
