BEGIN:VCALENDAR
PRODID:-//eluceo/ical//2.0/EN
VERSION:2.0
CALSCALE:GREGORIAN
BEGIN:VEVENT
UID:0fd5fd05c79e929fc1236242d4fd52eb
DTSTAMP:20260420T105024Z
SUMMARY:ROTARY ON THE MOVE - gastspreker Annerieke Sierksma
DESCRIPTION:Website: http://www.afspanningdelekkerbek.be\nSprekers: Profess
 or Bart De Strooper
URL:https://waasmunster-durmeland.rotary2130.org/nl/agenda/show/82291
DTSTART;TZID=Europe/Zurich:20250430T193000
DTEND;TZID=Europe/Zurich:20250430T223000
LOCATION:Restaurant De Lekkerbek\, Heidekapelstraat 32\, 9250 Waasmunster
CATEGORIES:Rotary
END:VEVENT
BEGIN:VTIMEZONE
TZID:Europe/Zurich
BEGIN:DAYLIGHT
DTSTART:20250430T193000
TZNAME:CEST
TZOFFSETTO:+0200
TZOFFSETFROM:+0200
END:DAYLIGHT
END:VTIMEZONE
END:VCALENDAR
