BEGIN:VCALENDAR
PRODID:-//eluceo/ical//2.0/EN
VERSION:2.0
CALSCALE:GREGORIAN
BEGIN:VEVENT
UID:508d413755390d3d806f8c703382f109
DTSTAMP:20260420T105149Z
SUMMARY:Autorally Franco-Belge
DESCRIPTION:
URL:https://koksijde-depanne-veurne.rotary2130.org/nl/agenda/show/83529
DTSTART;TZID=Europe/Zurich:20250426T083000
DTEND;TZID=Europe/Zurich:20250426T233000
LOCATION:Golf Ter Hille in Oostduinkerke
CATEGORIES:Rotary
END:VEVENT
BEGIN:VTIMEZONE
TZID:Europe/Zurich
BEGIN:DAYLIGHT
DTSTART:20250426T083000
TZNAME:CEST
TZOFFSETTO:+0200
TZOFFSETFROM:+0200
END:DAYLIGHT
END:VTIMEZONE
END:VCALENDAR
